BEGIN:VCALENDAR
VERSION:2.0
PRODID:-//FAGT Blog - ECPv6.15.18//NONSGML v1.0//EN
CALSCALE:GREGORIAN
METHOD:PUBLISH
X-WR-CALNAME:FAGT Blog
X-ORIGINAL-URL:https://fagt.blog
X-WR-CALDESC:Veranstaltungen für FAGT Blog
REFRESH-INTERVAL;VALUE=DURATION:PT1H
X-Robots-Tag:noindex
X-PUBLISHED-TTL:PT1H
BEGIN:VTIMEZONE
TZID:UTC
BEGIN:STANDARD
TZOFFSETFROM:+0000
TZOFFSETTO:+0000
TZNAME:UTC
DTSTART:20210101T000000
END:STANDARD
END:VTIMEZONE
BEGIN:VEVENT
DTSTART;TZID=UTC:20221128T100000
DTEND;TZID=UTC:20221130T180000
DTSTAMP:20260421T151711
CREATED:20220205T170900Z
LAST-MODIFIED:20220205T170900Z
UID:4853-1669629600-1669831200@fagt.blog
SUMMARY:ISPO Munich 2022
DESCRIPTION:ISPO Munich 2022\nNov 28 – 30\, 2022
URL:https://fagt.blog/event/ispo-munich-2022/
LOCATION:Bayern
END:VEVENT
END:VCALENDAR